BEGIN:VCALENDAR
VERSION:2.0
PRODID:-//eventon.com NONSGML v1.0//EN
BEGIN:VEVENT
UID:69e60dd6a267c
DTSTAMP:20260420T112822
DTSTART:20220702T083000Z
DTEND:20220702T130000Z
TZID:Europe/Lisbon
LOCATION:Centro de Natureza da Póvoa 
SUMMARY:Percurso de Cycling 3km e 11km
DESCRIPTION: Percurso de Cycling 3km e 11km\nhttps://jf-alemdaribeirapedreira.pt/eventos/percurso-de-cycling/
URL:https://jf-alemdaribeirapedreira.pt/eventos/percurso-de-cycling/
END:VEVENT
END:VCALENDAR